BEGIN:VCALENDAR
VERSION:2.0
PRODID:-//AFHS - ECPv6.15.20//NONSGML v1.0//EN
CALSCALE:GREGORIAN
METHOD:PUBLISH
X-WR-CALNAME:AFHS
X-ORIGINAL-URL:https://afhs.ab.ca
X-WR-CALDESC:Events for AFHS
REFRESH-INTERVAL;VALUE=DURATION:PT1H
X-Robots-Tag:noindex
X-PUBLISHED-TTL:PT1H
BEGIN:VTIMEZONE
TZID:America/Edmonton
BEGIN:DAYLIGHT
TZOFFSETFROM:-0700
TZOFFSETTO:-0600
TZNAME:MDT
DTSTART:20250309T090000
END:DAYLIGHT
BEGIN:STANDARD
TZOFFSETFROM:-0600
TZOFFSETTO:-0700
TZNAME:MST
DTSTART:20251102T080000
END:STANDARD
BEGIN:DAYLIGHT
TZOFFSETFROM:-0700
TZOFFSETTO:-0600
TZNAME:MDT
DTSTART:20260308T090000
END:DAYLIGHT
BEGIN:STANDARD
TZOFFSETFROM:-0600
TZOFFSETTO:-0700
TZNAME:MST
DTSTART:20261101T080000
END:STANDARD
BEGIN:DAYLIGHT
TZOFFSETFROM:-0700
TZOFFSETTO:-0600
TZNAME:MDT
DTSTART:20270314T090000
END:DAYLIGHT
BEGIN:STANDARD
TZOFFSETFROM:-0600
TZOFFSETTO:-0700
TZNAME:MST
DTSTART:20271107T080000
END:STANDARD
END:VTIMEZONE
BEGIN:VEVENT
DTSTART;TZID=America/Edmonton:20260119T190000
DTEND;TZID=America/Edmonton:20260119T203000
DTSTAMP:20260420T185901
CREATED:20251209T172303Z
LAST-MODIFIED:20251209T172303Z
UID:10002513-1768849200-1768854600@afhs.ab.ca
SUMMARY:AFHS Chit Chat Session
DESCRIPTION:Alberta Family Histories Society hosts a monthly “Chit Chat” session to offer a time for casual conversation. Bring your stories or questions. Share your favourite resources. Come meet others who are also passionate about family history! Invite a guest if you want\, be it a cousin\, neighbour or co-worker. \nThe topic for this session is Musical Memories. \nThese sessions are held by Zoom. Please register for the meeting using this link. \n——– \nFor more AFHS events\, see our calendar
URL:https://afhs.ab.ca/event/afhs-chit-chat-session-6/
LOCATION:Zoom
CATEGORIES:Meeting
ORGANIZER;CN="Linda & Kelly":MAILTO:library@afhs.ab.ca
END:VEVENT
BEGIN:VEVENT
DTSTART;TZID=America/Edmonton:20260201T130000
DTEND;TZID=America/Edmonton:20260201T150000
DTSTAMP:20260420T185901
CREATED:20260120T150847Z
LAST-MODIFIED:20260201T154958Z
UID:10002557-1769950800-1769958000@afhs.ab.ca
SUMMARY:Finance Committee Meeting
DESCRIPTION:The Finance Committee will meet during this time.
URL:https://afhs.ab.ca/event/finance-committee-meeting/
LOCATION:Resource Centre – Petwin Atrium Commons\, Suite 251S 8500 Macleod Trail SE\, Calgary\, Alberta\, T2H 2N1\, Canada
CATEGORIES:Meeting
ORGANIZER;CN="Anna Babaeva":MAILTO:finance@afhs.ab.ca
END:VEVENT
BEGIN:VEVENT
DTSTART;TZID=America/Edmonton:20260216T190000
DTEND;TZID=America/Edmonton:20260216T203000
DTSTAMP:20260420T185901
CREATED:20250908T144237Z
LAST-MODIFIED:20260218T202208Z
UID:10002514-1771268400-1771273800@afhs.ab.ca
SUMMARY:AFHS Chit Chat Session
DESCRIPTION:Alberta Family Histories Society hosts a monthly “Chit Chat” session to offer a time for casual conversation. Bring your stories or questions. Share your favourite resources. Come meet others who are also passionate about family history! Invite a guest if you want\, be it a cousin\, neighbour or co-worker. \nThese sessions are held by Zoom. Please register for the meeting using this link. \n——– \nFor more AFHS events\, see our calendar
URL:https://afhs.ab.ca/event/afhs-chit-chat-session/2026-02-16/
LOCATION:Zoom
CATEGORIES:Meeting
ORGANIZER;CN="Linda & Kelly":MAILTO:library@afhs.ab.ca
END:VEVENT
BEGIN:VEVENT
DTSTART;TZID=America/Edmonton:20260316T190000
DTEND;TZID=America/Edmonton:20260316T203000
DTSTAMP:20260420T185901
CREATED:20260218T202352Z
LAST-MODIFIED:20260218T202352Z
UID:10002515-1773687600-1773693000@afhs.ab.ca
SUMMARY:AFHS Chit Chat Session
DESCRIPTION:Alberta Family Histories Society hosts a monthly “Chit Chat” session to offer a time for casual conversation. Bring your stories or questions. Share your favourite resources. Come meet others who are also passionate about family history! Invite a guest if you want\, be it a cousin\, neighbour or co-worker. \nThe topic for this session is “Luck.” Please bring a story about a lucky ancestor or relative\, or a time when your family was lucky. Maybe they had the “luck of the Irish!” \nThese sessions are held by Zoom. Please register for the meeting using this link. \n——– \nFor more AFHS events\, see our calendar
URL:https://afhs.ab.ca/event/afhs-chit-chat-session-7/
LOCATION:Zoom
CATEGORIES:Meeting
ORGANIZER;CN="Linda & Kelly":MAILTO:library@afhs.ab.ca
END:VEVENT
BEGIN:VEVENT
DTSTART;TZID=America/Edmonton:20260416T100000
DTEND;TZID=America/Edmonton:20260416T123000
DTSTAMP:20260420T185901
CREATED:20260331T213722Z
LAST-MODIFIED:20260416T013143Z
UID:10002565-1776333600-1776342600@afhs.ab.ca
SUMMARY:CBE Retired Teachers Group Meeting via Zoom only
DESCRIPTION:The Calgary Board of Education Retired Employees Genealogy Group will be holding a meeting during this time. \nOur Resource Centre is open to the public at this time as well.
URL:https://afhs.ab.ca/event/cbe-retired-teachers-group-meeting/
LOCATION:Resource Centre – Petwin Atrium Commons\, Suite 251S 8500 Macleod Trail SE\, Calgary\, Alberta\, T2H 2N1\, Canada
CATEGORIES:Meeting
END:VEVENT
BEGIN:VEVENT
DTSTART;TZID=America/Edmonton:20260420T190000
DTEND;TZID=America/Edmonton:20260420T203000
DTSTAMP:20260420T185901
CREATED:20260324T004504Z
LAST-MODIFIED:20260324T004505Z
UID:10002516-1776711600-1776717000@afhs.ab.ca
SUMMARY:AFHS Chit Chat Session
DESCRIPTION:Alberta Family Histories Society hosts a monthly “Chit Chat” session to offer a time for casual conversation. Bring your stories or questions. Share your favourite resources. Come meet others who are also passionate about family history! Invite a guest if you want\, be it a cousin\, neighbour or co-worker. \nThe topic for this session is “Weather.” Please share a story about the effect of weather on an ancestor (or a group of them). \nThese sessions are held by Zoom. Please register for the meeting using this link. \n——– \nFor more AFHS events\, see our calendar
URL:https://afhs.ab.ca/event/afhs-chit-chat-session-3/
LOCATION:Zoom
CATEGORIES:Meeting
ORGANIZER;CN="Linda & Kelly":MAILTO:library@afhs.ab.ca
END:VEVENT
BEGIN:VEVENT
DTSTART;TZID=America/Edmonton:20260518T190000
DTEND;TZID=America/Edmonton:20260518T203000
DTSTAMP:20260420T185901
CREATED:20250908T144237Z
LAST-MODIFIED:20260218T202208Z
UID:10002517-1779130800-1779136200@afhs.ab.ca
SUMMARY:AFHS Chit Chat Session
DESCRIPTION:Alberta Family Histories Society hosts a monthly “Chit Chat” session to offer a time for casual conversation. Bring your stories or questions. Share your favourite resources. Come meet others who are also passionate about family history! Invite a guest if you want\, be it a cousin\, neighbour or co-worker. \nThese sessions are held by Zoom. Please register for the meeting using this link. \n——– \nFor more AFHS events\, see our calendar
URL:https://afhs.ab.ca/event/afhs-chit-chat-session/2026-05-18/
LOCATION:Zoom
CATEGORIES:Meeting
ORGANIZER;CN="Linda & Kelly":MAILTO:library@afhs.ab.ca
END:VEVENT
BEGIN:VEVENT
DTSTART;TZID=America/Edmonton:20260615T190000
DTEND;TZID=America/Edmonton:20260615T203000
DTSTAMP:20260420T185901
CREATED:20250908T144237Z
LAST-MODIFIED:20260218T202208Z
UID:10002518-1781550000-1781555400@afhs.ab.ca
SUMMARY:AFHS Chit Chat Session
DESCRIPTION:Alberta Family Histories Society hosts a monthly “Chit Chat” session to offer a time for casual conversation. Bring your stories or questions. Share your favourite resources. Come meet others who are also passionate about family history! Invite a guest if you want\, be it a cousin\, neighbour or co-worker. \nThese sessions are held by Zoom. Please register for the meeting using this link. \n——– \nFor more AFHS events\, see our calendar
URL:https://afhs.ab.ca/event/afhs-chit-chat-session/2026-06-15/
LOCATION:Zoom
CATEGORIES:Meeting
ORGANIZER;CN="Linda & Kelly":MAILTO:library@afhs.ab.ca
END:VEVENT
END:VCALENDAR