BEGIN:VCALENDAR
VERSION:2.0
PRODID:-//AFHS - ECPv6.15.20//NONSGML v1.0//EN
CALSCALE:GREGORIAN
METHOD:PUBLISH
X-ORIGINAL-URL:https://afhs.ab.ca
X-WR-CALDESC:Events for AFHS
REFRESH-INTERVAL;VALUE=DURATION:PT1H
X-Robots-Tag:noindex
X-PUBLISHED-TTL:PT1H
BEGIN:VTIMEZONE
TZID:America/Edmonton
BEGIN:DAYLIGHT
TZOFFSETFROM:-0700
TZOFFSETTO:-0600
TZNAME:MDT
DTSTART:20250309T090000
END:DAYLIGHT
BEGIN:STANDARD
TZOFFSETFROM:-0600
TZOFFSETTO:-0700
TZNAME:MST
DTSTART:20251102T080000
END:STANDARD
BEGIN:DAYLIGHT
TZOFFSETFROM:-0700
TZOFFSETTO:-0600
TZNAME:MDT
DTSTART:20260308T090000
END:DAYLIGHT
BEGIN:STANDARD
TZOFFSETFROM:-0600
TZOFFSETTO:-0700
TZNAME:MST
DTSTART:20261101T080000
END:STANDARD
BEGIN:DAYLIGHT
TZOFFSETFROM:-0700
TZOFFSETTO:-0600
TZNAME:MDT
DTSTART:20270314T090000
END:DAYLIGHT
BEGIN:STANDARD
TZOFFSETFROM:-0600
TZOFFSETTO:-0700
TZNAME:MST
DTSTART:20271107T080000
END:STANDARD
END:VTIMEZONE
BEGIN:VEVENT
DTSTART;TZID=America/Edmonton:20260416T100000
DTEND;TZID=America/Edmonton:20260416T123000
DTSTAMP:20260420T162137
CREATED:20260331T213722Z
LAST-MODIFIED:20260416T013143Z
UID:10002565-1776333600-1776342600@afhs.ab.ca
SUMMARY:CBE Retired Teachers Group Meeting via Zoom only
DESCRIPTION:The Calgary Board of Education Retired Employees Genealogy Group will be holding a meeting during this time. \nOur Resource Centre is open to the public at this time as well.
URL:https://afhs.ab.ca/event/cbe-retired-teachers-group-meeting/
LOCATION:Resource Centre – Petwin Atrium Commons\, Suite 251S 8500 Macleod Trail SE\, Calgary\, Alberta\, T2H 2N1\, Canada
CATEGORIES:Meeting
END:VEVENT
END:VCALENDAR