BEGIN:VCALENDAR
VERSION:2.0
PRODID:-//AFHS - ECPv6.15.20//NONSGML v1.0//EN
CALSCALE:GREGORIAN
METHOD:PUBLISH
X-WR-CALNAME:AFHS
X-ORIGINAL-URL:https://afhs.ab.ca
X-WR-CALDESC:Events for AFHS
REFRESH-INTERVAL;VALUE=DURATION:PT1H
X-Robots-Tag:noindex
X-PUBLISHED-TTL:PT1H
BEGIN:VTIMEZONE
TZID:America/Edmonton
BEGIN:DAYLIGHT
TZOFFSETFROM:-0700
TZOFFSETTO:-0600
TZNAME:MDT
DTSTART:20240310T090000
END:DAYLIGHT
BEGIN:STANDARD
TZOFFSETFROM:-0600
TZOFFSETTO:-0700
TZNAME:MST
DTSTART:20241103T080000
END:STANDARD
BEGIN:DAYLIGHT
TZOFFSETFROM:-0700
TZOFFSETTO:-0600
TZNAME:MDT
DTSTART:20250309T090000
END:DAYLIGHT
BEGIN:STANDARD
TZOFFSETFROM:-0600
TZOFFSETTO:-0700
TZNAME:MST
DTSTART:20251102T080000
END:STANDARD
BEGIN:DAYLIGHT
TZOFFSETFROM:-0700
TZOFFSETTO:-0600
TZNAME:MDT
DTSTART:20260308T090000
END:DAYLIGHT
BEGIN:STANDARD
TZOFFSETFROM:-0600
TZOFFSETTO:-0700
TZNAME:MST
DTSTART:20261101T080000
END:STANDARD
END:VTIMEZONE
BEGIN:VEVENT
DTSTART;TZID=America/Edmonton:20251026T130000
DTEND;TZID=America/Edmonton:20251026T150000
DTSTAMP:20260420T173637
CREATED:20250906T142736Z
LAST-MODIFIED:20250912T214547Z
UID:10002508-1761483600-1761490800@afhs.ab.ca
SUMMARY:UEL Meeting
DESCRIPTION:Our Resource Centre will be used by the local branch of the United Empire Loyalists. AFHS members are invited to attend. \nStephen Davidson from Nova Scotia will be presenting a talk on “Fascinating Facts from Loyalist History: What your teachers might not have known about Canada’s refugee founders”\n\n“This is a particularly good talk for those who are new to loyalist history.  It features 25 facts that most Canadians don’t know about the Loyalists. Those who have a longer familiarity with loyalist history may enjoy seeing how many of these facts they already know.”\n\nStephen has consistently contributed to a weekly Loyalist newsletter called Loyalist Trails.
URL:https://afhs.ab.ca/event/uel-meeting/
LOCATION:Resource Centre – Petwin Atrium Commons\, Suite 251S 8500 Macleod Trail SE\, Calgary\, Alberta\, T2H 2N1\, Canada
CATEGORIES:Meeting
ORGANIZER;CN="Suzanne Davidson":MAILTO:s_e_davidson@hotmail.com
END:VEVENT
BEGIN:VEVENT
DTSTART;TZID=America/Edmonton:20251027T190000
DTEND;TZID=America/Edmonton:20251027T203000
DTSTAMP:20260420T173637
CREATED:20250930T010231Z
LAST-MODIFIED:20251027T221115Z
UID:10002519-1761591600-1761597000@afhs.ab.ca
SUMMARY:AFHS Chit Chat Session
DESCRIPTION:Alberta Family Histories Society hosts a monthly “Chit Chat” session to offer a time for casual conversation. Bring your stories or questions. Share your favourite resources. Come meet others who are also passionate about family history! Invite a guest if you want\, be it a cousin\, neighbour or co-worker. \nThese sessions are held by Zoom. To register for this meeting\, please use this link. \nAfter registering\, you will receive a confirmation email containing information about joining the meeting. \n——– \nFor more AFHS events\, see our calendar
URL:https://afhs.ab.ca/event/afhs-chit-chat-session-2/
LOCATION:Zoom
CATEGORIES:Meeting
ORGANIZER;CN="Linda & Kelly":MAILTO:library@afhs.ab.ca
END:VEVENT
BEGIN:VEVENT
DTSTART;TZID=America/Edmonton:20251028T190000
DTEND;TZID=America/Edmonton:20251028T210000
DTSTAMP:20260420T173637
CREATED:20250613T201142Z
LAST-MODIFIED:20250613T201702Z
UID:10002127-1761678000-1761685200@afhs.ab.ca
SUMMARY:Legacy Special Interest Group
DESCRIPTION:This special interest group is for those who are using Legacy Family Tree software or those who want to know more about it. Bring your questions! We learn from each other. \nThe Legacy Family Tree Special Interest Group meets on the fourth Tuesday of each month from September to November and January to May at 7 pm. All meetings are held via Zoom. \nThis meeting will be held via Zoom. Those on the SIG distribution list will be sent the link a few days before the meeting by Bev who is the SIG leader. \nOur special interest groups are a member benefit\, but we welcome visitors! If you would like to attend this meeting as a guest\, please email communications@afhs.ab.ca to receive the Zoom invitation. \n———\nFor other Special Interest Group meetings and AFHS events\, see our calendar. \nThe popular Legacy software may be downloaded for free from https://legacyfamilytree.com/.
URL:https://afhs.ab.ca/event/legacy-special-interest-group/2025-10-28/
LOCATION:Zoom
CATEGORIES:SIG
ORGANIZER;CN="Bev A.":MAILTO:legacysig@afhs.ab.ca
END:VEVENT
END:VCALENDAR