BEGIN:VCALENDAR
VERSION:2.0
PRODID:-//AFHS - ECPv6.15.20//NONSGML v1.0//EN
CALSCALE:GREGORIAN
METHOD:PUBLISH
X-ORIGINAL-URL:https://afhs.ab.ca
X-WR-CALDESC:Events for AFHS
REFRESH-INTERVAL;VALUE=DURATION:PT1H
X-Robots-Tag:noindex
X-PUBLISHED-TTL:PT1H
BEGIN:VTIMEZONE
TZID:America/Edmonton
BEGIN:DAYLIGHT
TZOFFSETFROM:-0700
TZOFFSETTO:-0600
TZNAME:MDT
DTSTART:20240310T090000
END:DAYLIGHT
BEGIN:STANDARD
TZOFFSETFROM:-0600
TZOFFSETTO:-0700
TZNAME:MST
DTSTART:20241103T080000
END:STANDARD
BEGIN:DAYLIGHT
TZOFFSETFROM:-0700
TZOFFSETTO:-0600
TZNAME:MDT
DTSTART:20250309T090000
END:DAYLIGHT
BEGIN:STANDARD
TZOFFSETFROM:-0600
TZOFFSETTO:-0700
TZNAME:MST
DTSTART:20251102T080000
END:STANDARD
BEGIN:DAYLIGHT
TZOFFSETFROM:-0700
TZOFFSETTO:-0600
TZNAME:MDT
DTSTART:20260308T090000
END:DAYLIGHT
BEGIN:STANDARD
TZOFFSETFROM:-0600
TZOFFSETTO:-0700
TZNAME:MST
DTSTART:20261101T080000
END:STANDARD
BEGIN:DAYLIGHT
TZOFFSETFROM:-0700
TZOFFSETTO:-0600
TZNAME:MDT
DTSTART:20270314T090000
END:DAYLIGHT
BEGIN:STANDARD
TZOFFSETFROM:-0600
TZOFFSETTO:-0700
TZNAME:MST
DTSTART:20271107T080000
END:STANDARD
END:VTIMEZONE
BEGIN:VEVENT
DTSTART;TZID=America/Edmonton:20260419T120000
DTEND;TZID=America/Edmonton:20260419T160000
DTSTAMP:20260420T021217
CREATED:20260201T154830Z
LAST-MODIFIED:20260201T154830Z
UID:10002561-1776600000-1776614400@afhs.ab.ca
SUMMARY:UELAC Calgary Spring Meeting
DESCRIPTION:Our Resource Centre will be in use for the Spring Meeting of UELAC Calgary.
URL:https://afhs.ab.ca/event/uelac-calgary-spring-meeting/
LOCATION:At AFHS Resource Centre & via Zoom\, Suite 251S\, 8500 Macleod Trail SE\, Calgary\, Alberta\, T2H 2N1\, Canada
CATEGORIES:Rental
ORGANIZER;CN="Suzanne Davidson":MAILTO:s_e_davidson@hotmail.com
GEO:50°58'35.7"N;114°04'11.5"W
X-APPLE-STRUCTURED-LOCATION;VALUE=URI;X-ADDRESS=At AFHS Resource Centre & via Zoom Suite 251S 8500 Macleod Trail SE Calgary Alberta T2H 2N1 Canada;X-APPLE-RADIUS=500;X-TITLE=Suite 251S\, 8500 Macleod Trail SE:geo:114°04'11.5"W,50°58'35.7"N
END:VEVENT
BEGIN:VEVENT
DTSTART;TZID=America/Edmonton:20260413T190000
DTEND;TZID=America/Edmonton:20260413T210000
DTSTAMP:20260420T021217
CREATED:20260301T152600Z
LAST-MODIFIED:20260301T152601Z
UID:10002059-1776106800-1776114000@afhs.ab.ca
SUMMARY:AFHS Society Meeting
DESCRIPTION:The AFHS Society Meeting is our regular meeting for all members\, usually held on the second Monday of each month from September to June. \nTopic: Investigative Genetic Genealogy: What it is and how you can help presented by Marie Palmer. \nDescription: In this webinar\, Marie Palmer\, a Canadian Accredited Investigative Genetic Genealogist with numerous case solves\, will give an overview of IGG and walk through a Canadian case study about one of her first successful identifications. Additionally\, she will discuss how people can help of get involved. \nThis meeting will be a hybrid Zoom meeting held at our Resource Centre (Suite 251S\, 8500 Macleod Trail SE in the Heritage Square building). If you are in Calgary and area\, we’d love to have you join us in person. To attend by Zoom\, please register using this registration link. Please note: You must include a full name. \nWe welcome guests! \n——- \nFor more AFHS events\, see our calendar. \nTo see our other two society websites\, browse to https://albertaancestors.ca or https://familygenes.ca.
URL:https://afhs.ab.ca/event/afhs-society-meeting-3/
LOCATION:At AFHS Resource Centre & via Zoom\, Suite 251S\, 8500 Macleod Trail SE\, Calgary\, Alberta\, T2H 2N1\, Canada
CATEGORIES:Society Meeting
ORGANIZER;CN="Alberta Family Histories Society":MAILTO:info@afhs.ab.ca
GEO:50°58'35.7"N;114°04'11.5"W
X-APPLE-STRUCTURED-LOCATION;VALUE=URI;X-ADDRESS=At AFHS Resource Centre & via Zoom Suite 251S 8500 Macleod Trail SE Calgary Alberta T2H 2N1 Canada;X-APPLE-RADIUS=500;X-TITLE=Suite 251S\, 8500 Macleod Trail SE:geo:114°04'11.5"W,50°58'35.7"N
END:VEVENT
BEGIN:VEVENT
DTSTART;TZID=America/Edmonton:20260309T190000
DTEND;TZID=America/Edmonton:20260309T210000
DTSTAMP:20260420T021217
CREATED:20260104T170202Z
LAST-MODIFIED:20260304T214217Z
UID:10002058-1773082800-1773090000@afhs.ab.ca
SUMMARY:AFHS Society Meeting
DESCRIPTION:The AFHS Society Meeting is our regular meeting for all members\, usually held on the second Monday of each month from September to June. Guests are welcome to attend! \nTopic: Indigenous Research at Library and Archives Canada \nDescription: Join Jeannie Buchanan Breit from Library and Archives Canada for this online workshop and learn how to search genealogy records about First Nations\, Inuit and the Métis Nation. Discover how to access collections and digitized records\, and receive advice and assistance for conducting your research. \nWeather permitting\, this meeting will be a hybrid Zoom meeting held at our Resource Centre (Suite 251S\, 8500 Macleod Trail SE in the Heritage Square building). If you are in Calgary and area\, we’d love to have you join us in person. To attend via Zoom\, please use this registration link. \nWe welcome guests! \n——- \nFor more AFHS events\, see our calendar. \nTo see our other two society websites\, browse to https://albertaancestors.ca or https://familygenes.ca.
URL:https://afhs.ab.ca/event/afhs-society-meeting-12/
LOCATION:At AFHS Resource Centre & via Zoom\, Suite 251S\, 8500 Macleod Trail SE\, Calgary\, Alberta\, T2H 2N1\, Canada
CATEGORIES:Society Meeting
ORGANIZER;CN="Alberta Family Histories Society":MAILTO:info@afhs.ab.ca
GEO:50°58'35.7"N;114°04'11.5"W
X-APPLE-STRUCTURED-LOCATION;VALUE=URI;X-ADDRESS=At AFHS Resource Centre & via Zoom Suite 251S 8500 Macleod Trail SE Calgary Alberta T2H 2N1 Canada;X-APPLE-RADIUS=500;X-TITLE=Suite 251S\, 8500 Macleod Trail SE:geo:114°04'11.5"W,50°58'35.7"N
END:VEVENT
BEGIN:VEVENT
DTSTART;TZID=America/Edmonton:20260228T100000
DTEND;TZID=America/Edmonton:20260228T120000
DTSTAMP:20260420T021217
CREATED:20260126T152852Z
LAST-MODIFIED:20260226T020945Z
UID:10002559-1772272800-1772280000@afhs.ab.ca
SUMMARY:Celtic Special Interest Group
DESCRIPTION:The Celtic Special Interest Group is for anyone with Scottish and/or Irish ancestry. If you are doing genealogy research in either of these countries\, come join us! Our members have a wealth of information to share. \nThe Celtic Special Interest Group usually on some fourth Saturdays at 10 am. In the 2025-2026 season\, the meetings will be held in September\, October\, November\, January\, February\, April and May. \nThis meeting will be Zoom only (due to the snowy forecast). The meeting details and Zoom invitation will be sent out a few days prior to each meeting by Stephanie to AFHS members who are on the Celtic SIG distribution list. If you would like to attend via Zoom as a guest\, email communications@afhs.ab.ca at least a day prior to the meeting. \nThe topic for this Celtic Special Interest Group meeting is: Education in Ireland and Scotland. We are asking some of our members to share what they have found about schools\, education and school records in Celtic research. If you would be willing to present\, please let Stephanie know. \nOur special interest groups are a member benefit\, but we welcome visitors! If the meeting is being held at the resource centre and you live in the Calgary area\, please just come and introduce yourself. If you would like to attend a Zoom session as a guest\, please email communications@afhs.ab.ca to receive the Zoom invitation (no later than 24 hours ahead of time). Be sure to ask for an invitation to a Celtic SIG meeting and include the date. \n—— \nFor other Special Interest Group meetings and AFHS events\, see our calendar. \nAlberta Family Histories Society is a member of the Family History Federation – an organization that supports family historians research\, especially in the United Kingdom.
URL:https://afhs.ab.ca/event/celtic-special-interest-group/
LOCATION:At AFHS Resource Centre & via Zoom\, Suite 251S\, 8500 Macleod Trail SE\, Calgary\, Alberta\, T2H 2N1\, Canada
CATEGORIES:SIG
ORGANIZER;CN="Stephanie":MAILTO:celticsig@afhs.ab.ca
GEO:50°58'35.7"N;114°04'11.5"W
X-APPLE-STRUCTURED-LOCATION;VALUE=URI;X-ADDRESS=At AFHS Resource Centre & via Zoom Suite 251S 8500 Macleod Trail SE Calgary Alberta T2H 2N1 Canada;X-APPLE-RADIUS=500;X-TITLE=Suite 251S\, 8500 Macleod Trail SE:geo:114°04'11.5"W,50°58'35.7"N
END:VEVENT
BEGIN:VEVENT
DTSTART;TZID=America/Edmonton:20260209T190000
DTEND;TZID=America/Edmonton:20260209T210000
DTSTAMP:20260420T021217
CREATED:20260102T224032Z
LAST-MODIFIED:20260104T163039Z
UID:10002057-1770663600-1770670800@afhs.ab.ca
SUMMARY:AFHS Society Meeting
DESCRIPTION:The AFHS Society Meeting is our regular meeting for all members\, usually held on the second Monday of each month from September to June. Guests are welcome to attend! \nTopic: Genealogical Research in British Columbia presented by Gord McBean \nIf you are going to do research in British Columbia you will be using all the normal sources\, you are probably already using. They may just be organized differently and found in a different place. The genealogy research process brings the desperately needed structure that will carry us through all our research problems. This is why good organizational habits and research fundamentals are so important in genealogy. The same steps we currently use need to be followed: \n\nIdentify Known Information\nPlan the Research\nSearch the Records\nAnalyze the Records\nMake Conclusions\n\nHistorical vital records in BC are held by BC Archives (Royal BC Museum). In some cases\, the original images have been digitized and are available for free download. But this is not the only source for information on your ancestors time in BC. Genealogical Groups\, Museums and Archives in BC are a wealth of resources and information to assist you in your research. \n \nWeather permitting\, this meeting will be a hybrid Zoom meeting held at our Resource Centre (Suite 251S\, 8500 Macleod Trail SE in the Heritage Square building). If you are in Calgary and area\, we’d love to have you join us in person.  Please register for the meeting using this link. \nWe welcome guests! \n——- \nFor more AFHS events\, see our calendar. \nTo see our other two society websites\, browse to https://albertaancestors.ca or https://familygenes.ca.
URL:https://afhs.ab.ca/event/afhs-society-meeting-11/
LOCATION:At AFHS Resource Centre & via Zoom\, Suite 251S\, 8500 Macleod Trail SE\, Calgary\, Alberta\, T2H 2N1\, Canada
CATEGORIES:Society Meeting
ORGANIZER;CN="Alberta Family Histories Society":MAILTO:info@afhs.ab.ca
GEO:50°58'35.7"N;114°04'11.5"W
X-APPLE-STRUCTURED-LOCATION;VALUE=URI;X-ADDRESS=At AFHS Resource Centre & via Zoom Suite 251S 8500 Macleod Trail SE Calgary Alberta T2H 2N1 Canada;X-APPLE-RADIUS=500;X-TITLE=Suite 251S\, 8500 Macleod Trail SE:geo:114°04'11.5"W,50°58'35.7"N
END:VEVENT
BEGIN:VEVENT
DTSTART;TZID=America/Edmonton:20260112T190000
DTEND;TZID=America/Edmonton:20260112T210000
DTSTAMP:20260420T021217
CREATED:20251001T143650Z
LAST-MODIFIED:20260106T175140Z
UID:10002056-1768244400-1768251600@afhs.ab.ca
SUMMARY:AFHS Society Meeting
DESCRIPTION:The AFHS Society Meeting is our regular meeting for all members\, usually held on the second Monday of each month from September to June. Guests are welcome to attend! \nTopic: Start\, Search\, Discover: Genealogy Essentials presented by Christine Hayes \nDescription: Every family tree starts with a tale—sometimes epic\, sometimes eccentric. In this session\, we’ll chart a path from curious beginner to seasoned sleuth\, sharing the twists\, turns\, and surprising discoveries that make genealogical research feel more like time travel than homework. \nWeather permitting\, this meeting will be a hybrid Zoom meeting held at our Resource Centre (Suite 251S\, 8500 Macleod Trail SE in the Heritage Square building). If you are in Calgary and area\, we’d love to have you join us in person. To attend by Zoom\, please use this Zoom registration link. \nIf the weather or road conditions are poor\, please check here on the meeting day to see if we will proceed with hybrid or change to Zoom only. \nWe welcome guests! \n——- \nFor more AFHS events\, see our calendar. \nTo see our other two society websites\, browse to https://albertaancestors.ca or https://familygenes.ca.
URL:https://afhs.ab.ca/event/afhs-society-meeting-9/
LOCATION:At AFHS Resource Centre & via Zoom\, Suite 251S\, 8500 Macleod Trail SE\, Calgary\, Alberta\, T2H 2N1\, Canada
CATEGORIES:Society Meeting
ORGANIZER;CN="Alberta Family Histories Society":MAILTO:info@afhs.ab.ca
GEO:50°58'35.7"N;114°04'11.5"W
X-APPLE-STRUCTURED-LOCATION;VALUE=URI;X-ADDRESS=At AFHS Resource Centre & via Zoom Suite 251S 8500 Macleod Trail SE Calgary Alberta T2H 2N1 Canada;X-APPLE-RADIUS=500;X-TITLE=Suite 251S\, 8500 Macleod Trail SE:geo:114°04'11.5"W,50°58'35.7"N
END:VEVENT
BEGIN:VEVENT
DTSTART;TZID=America/Edmonton:20251208T190000
DTEND;TZID=America/Edmonton:20251208T210000
DTSTAMP:20260420T021217
CREATED:20250727T205420Z
LAST-MODIFIED:20251111T152512Z
UID:10002055-1765220400-1765227600@afhs.ab.ca
SUMMARY:AFHS Society Meeting
DESCRIPTION:The AFHS Society Meeting is our regular meeting for all members\, usually held on the second Monday of each month from September to June. Guests are welcome to attend! \nTopic: All I Want for Christmas: Vintage Catalogues \nLong before online shopping there was the mail-order catalogue. Children and adults alike waited for the delivery of the Christmas catalogue to decide what to put on their wishlists.  We will look at some of the repositories that hold these catalogues and then ask the question\, “What would you ask Santa for?”  We’ll give you a bit of time to make your list and those who are willing can share their finds. \nThis will also be our Christmas get-together\, so in-person attendance is encouraged\, but not necessary (although you will miss the chat and the goodies)  \nWeather permitting\, this meeting will be a hybrid Zoom meeting held at our Resource Centre (Suite 251S\, 8500 Macleod Trail SE in the Heritage Square building). If the road and weather conditions are questionable\, please check this calendar before heading out. We will update the calendar as soon as a decision is made about whether to hold a hybrid meeting or use Zoom only. \nIf you are in Calgary and area\, we’d love to have you join us in person. \nTo attend via Zoom\, please use this registration link. \nWe welcome guests! \n——- \nFor more AFHS events\, see our calendar. \nTo see our other two society websites\, browse to https://albertaancestors.ca or https://familygenes.ca.
URL:https://afhs.ab.ca/event/afhs-society-meeting-7/
LOCATION:At AFHS Resource Centre & via Zoom\, Suite 251S\, 8500 Macleod Trail SE\, Calgary\, Alberta\, T2H 2N1\, Canada
CATEGORIES:Society Meeting
ORGANIZER;CN="Alberta Family Histories Society":MAILTO:info@afhs.ab.ca
GEO:50°58'35.7"N;114°04'11.5"W
X-APPLE-STRUCTURED-LOCATION;VALUE=URI;X-ADDRESS=At AFHS Resource Centre & via Zoom Suite 251S 8500 Macleod Trail SE Calgary Alberta T2H 2N1 Canada;X-APPLE-RADIUS=500;X-TITLE=Suite 251S\, 8500 Macleod Trail SE:geo:114°04'11.5"W,50°58'35.7"N
END:VEVENT
BEGIN:VEVENT
DTSTART;TZID=America/Edmonton:20251204T110000
DTEND;TZID=America/Edmonton:20251204T120000
DTSTAMP:20260420T021217
CREATED:20251127T194120Z
LAST-MODIFIED:20251127T194120Z
UID:10002522-1764846000-1764849600@afhs.ab.ca
SUMMARY:CALL Presentation
DESCRIPTION:Join us at the Resource Centre for a presentation offered by CALL (Calgary Association of Lifelong Learners) \nSir John A. Macdonald – The Vision\, the Controversy and the Cost of Nationhood\nJoin us for an hour’s presentation and discussion of Canada’s first prime minister. Sir John A. left us a nation of promises but also some tatters of legacy issues. Ian Harvey of CALL and Jim Benedict of AFHS+CALL will talk on Macdonald\, covering the nation building period of 1885\, when Canada was only eight years old\, the transnational railroad was just completed and the settlement of the west was underway. His handling of indigenous peoples and the Louis Riel rebellion lingers on in today’s debates.\nThe event will be held on Thursday\, December 4 th \, starting at 11 am at the AFHS Resource Centre in the Heritage Square at Suite 251-South\, 8500 Macleod Trail\, S.E. The talk will also be available on Zoom. See the link below.\nWe are inviting members of the Alberta Family Histories Society\, AFHS\, to join us in person or by Zoom. This is sponsored by the “Historical Events &amp; Their Impact” group of the Calgary Association of Lifelong Learners\, CALL. Please come to the talk to enjoy some Canadiana and to meet some other very interesting people.\nThe presentation will wrap up by noon. The members of CALL intend to enjoy a lunch at the nearby Toscana Restaurant\, a short walking distance just north of Heritage Square with optional parking for you. AFHS members are welcome to join us. \nJim Benedict \nThe Zoom link has been distributed to our members in recent Windsock messages.
URL:https://afhs.ab.ca/event/call-presentation/
LOCATION:At AFHS Resource Centre & via Zoom\, Suite 251S\, 8500 Macleod Trail SE\, Calgary\, Alberta\, T2H 2N1\, Canada
CATEGORIES:Meeting
ORGANIZER;CN="Jim":MAILTO:webmaster@afhs.ab.ca
GEO:50°58'35.7"N;114°04'11.5"W
X-APPLE-STRUCTURED-LOCATION;VALUE=URI;X-ADDRESS=At AFHS Resource Centre & via Zoom Suite 251S 8500 Macleod Trail SE Calgary Alberta T2H 2N1 Canada;X-APPLE-RADIUS=500;X-TITLE=Suite 251S\, 8500 Macleod Trail SE:geo:114°04'11.5"W,50°58'35.7"N
END:VEVENT
BEGIN:VEVENT
DTSTART;TZID=America/Edmonton:20251129T100000
DTEND;TZID=America/Edmonton:20251129T120000
DTSTAMP:20260420T021217
CREATED:20250526T021311Z
LAST-MODIFIED:20251009T141626Z
UID:10002027-1764410400-1764417600@afhs.ab.ca
SUMMARY:Basics Special Interest Group
DESCRIPTION:Are you just getting started? Have you been researching for a while and want a deeper understanding of some of the common topics in genealogy? This Basics Special Interest Group is for you! \nWe will meet on November 29 and January 31 (5th Saturdays of the month). The meetings will be hybrid – held at our Resource Centre (Suite 251S\, 8500 Macleod Trail SE) and by Zoom. \nThe topic for November 29 is to be determined. It will be either Newspapers (presented by Bev Smith) OR Wills and Probate Records (presented by Marion Peterson). The exact topic will be posted a few weeks before the meeting. \nSpecial Interest Groups such as the Basics Special Interest Group are a member benefit for all Alberta Family Histories Society members. If you would like to attend a session as a guest\, please contact communications@afhs.ab.ca. For a list of all other calendar events\, see our calendar. \n 
URL:https://afhs.ab.ca/event/basics-special-interest-group/
LOCATION:At AFHS Resource Centre & via Zoom\, Suite 251S\, 8500 Macleod Trail SE\, Calgary\, Alberta\, T2H 2N1\, Canada
CATEGORIES:SIG
ORGANIZER;CN="Bev Smith & Marion Peterson":MAILTO:basics@afhs.ab.ca
GEO:50°58'35.7"N;114°04'11.5"W
X-APPLE-STRUCTURED-LOCATION;VALUE=URI;X-ADDRESS=At AFHS Resource Centre & via Zoom Suite 251S 8500 Macleod Trail SE Calgary Alberta T2H 2N1 Canada;X-APPLE-RADIUS=500;X-TITLE=Suite 251S\, 8500 Macleod Trail SE:geo:114°04'11.5"W,50°58'35.7"N
END:VEVENT
BEGIN:VEVENT
DTSTART;TZID=America/Edmonton:20251110T190000
DTEND;TZID=America/Edmonton:20251110T210000
DTSTAMP:20260420T021217
CREATED:20250727T205941Z
LAST-MODIFIED:20251214T215508Z
UID:10002054-1762801200-1762808400@afhs.ab.ca
SUMMARY:AFHS Society Meeting
DESCRIPTION:The AFHS Society Meeting is our regular meeting for all members\, usually held on the second Monday of each month from September to June. Guests are welcome to attend! \nTopic: After the War: Stories of those who served \nThis meeting will be a hybrid Zoom meeting held at our Resource Centre (Suite 251S\, 8500 Macleod Trail SE in the Heritage Square building). If you are in Calgary and area\, we’d love to have you join us in person. \nThe Zoom meeting has now passed. \nWe welcome guests! \n——- \nFor more AFHS events\, see our calendar. \nTo see our other two society websites\, browse to https://albertaancestors.ca or https://familygenes.ca.
URL:https://afhs.ab.ca/event/afhs-society-meeting-8/
LOCATION:At AFHS Resource Centre & via Zoom\, Suite 251S\, 8500 Macleod Trail SE\, Calgary\, Alberta\, T2H 2N1\, Canada
CATEGORIES:Society Meeting
ORGANIZER;CN="Alberta Family Histories Society":MAILTO:info@afhs.ab.ca
GEO:50°58'35.7"N;114°04'11.5"W
X-APPLE-STRUCTURED-LOCATION;VALUE=URI;X-ADDRESS=At AFHS Resource Centre & via Zoom Suite 251S 8500 Macleod Trail SE Calgary Alberta T2H 2N1 Canada;X-APPLE-RADIUS=500;X-TITLE=Suite 251S\, 8500 Macleod Trail SE:geo:114°04'11.5"W,50°58'35.7"N
END:VEVENT
BEGIN:VEVENT
DTSTART;TZID=America/Edmonton:20250908T190000
DTEND;TZID=America/Edmonton:20250908T210000
DTSTAMP:20260420T021217
CREATED:20250530T130427Z
LAST-MODIFIED:20251014T192810Z
UID:10002052-1757358000-1757365200@afhs.ab.ca
SUMMARY:AFHS Society Meeting
DESCRIPTION:The AFHS Society Meeting is our regular meeting for all members\, usually held on the second Monday of each month from September to June. Guests are welcome to attend! \nPlease note: Due to the passing of her father\, Tara Shymanski is not able to do the presentation about Hudson’s Bay records on Monday night. Instead Amber Godfrey has kindly come forward to do the talk.  \nTopic: The D.R. Eaton Tragedy: Researching Three Nova Scotian Brothers Who Were Lost at Sea \nDescription: The Shaw brothers had no idea that their routine voyage to Bremen would end in tragedy. In the fall of 1878\, they set out from Baltimore\, Maryland to Antwerp\, Belgium\, with a load of grain and timber. Their ship\, the D.R. Eaton\, had been built in Eatonville\, Cumberland County\, Nova Scotia\, by brothers D.R. and C.F. Eaton and was launched in October 1877. She was built by J.G. Olive Jr. of Saint John\, New Brunswick\, a first-class ship builder. The D.R. Eaton was declared to be a “ship of the first order for strength and durability.” So how did this brand-new vessel disappear completely\, never to be heard from again? Captain Harris H. Shaw\, his wife and young daughter\, two of his brothers and twenty other crew members simply vanished. Follow my journey as I learn more about this seafaring family and the tragedy that befell them. Newspaper articles\, probate documents\, Seafarer’s of the Atlantic Province records\, census returns\, birth and marriage records all help me piece together their story. \nOur Speaker: Amber Godfrey \nAmber Godfrey is an amateur family historian whose love of family history started in childhood\, listening to family stories shared by her parents\, grandmothers and extended family. She received a Family History kit for Christmas when she was twelve and that started her on a family history research journey that continues to this day. \nAfter finishing college and working in a variety of office jobs\, Amber realized that she could combine her love of books and research and her interest in computers by working in libraries. She graduated as a Library Technician and worked in public libraries in BC for nearly twenty years. When she moved to Calgary\, she was hired by the Calgary Board of Education to work on-call in school libraires. Now that her family has moved back to BC\, she is currently searching for her next job. \nAmber plans to remain a member of the Alberta Family Histories Society and will continue her role as editor of the AFHS Chinook Arch newsletter. While she was living in Calgary\, she also volunteered at the AFHS library and helped with their Family History Coaching program at Calgary Public Library. \nIn 2024\, she submitted a presentation idea to the Nova Scotia Genealogy Virtual Conference and was chosen as one of the presenters. Amber is passionate about sharing stories of ordinary people who led interesting lives\, especially women\, and she hopes to do more presentations for groups in the future. \n \nThis meeting will be a hybrid Zoom meeting held at our Resource Centre (Suite 251S\, 8500 Macleod Trail SE in the Heritage Square building). If you are in Calgary and area\, we’d love to have you join us in person. \nThe zoom invite for this meeting has been removed since this meeting has now passed. \nWe welcome guests! \n——- \nFor more AFHS events\, see our calendar. \nTo see our other two society websites\, browse to https://albertaancestors.ca or https://familygenes.ca.
URL:https://afhs.ab.ca/event/afhs-society-meeting-5/
LOCATION:At AFHS Resource Centre & via Zoom\, Suite 251S\, 8500 Macleod Trail SE\, Calgary\, Alberta\, T2H 2N1\, Canada
CATEGORIES:Society Meeting
ORGANIZER;CN="Alberta Family Histories Society":MAILTO:info@afhs.ab.ca
GEO:50°58'35.7"N;114°04'11.5"W
X-APPLE-STRUCTURED-LOCATION;VALUE=URI;X-ADDRESS=At AFHS Resource Centre & via Zoom Suite 251S 8500 Macleod Trail SE Calgary Alberta T2H 2N1 Canada;X-APPLE-RADIUS=500;X-TITLE=Suite 251S\, 8500 Macleod Trail SE:geo:114°04'11.5"W,50°58'35.7"N
END:VEVENT
END:VCALENDAR